BEGIN:VCALENDAR
VERSION:2.0
PRODID:-//wp-events-plugin.com//7.2.3.1//EN
BEGIN:VEVENT
UID:4@govindabkari.com
DTSTART;TZID=Asia/Kolkata:20231202T153000
DTEND;TZID=Asia/Kolkata:20231202T170000
DTSTAMP:20231130T114546Z
URL:https://www.govindabkari.com/events/ask-anything-on-scrum/
SUMMARY:Ask Anything on Scrum
DESCRIPTION:You can ask any question related to Scrum Basics or Implementat
 ion
ATTACH;FMTTYPE=image/jpeg:https://www.govindabkari.com/wp-content/uploads/
 2023/11/Ask-Anything-on-Scrum-Riyadh_1.jpg
CATEGORIES:Scrum
LOCATION:https://www.meetup.com/rascrummer/events/297274735/
END:VEVENT
BEGIN:VTIMEZONE
TZID:Asia/Kolkata
X-LIC-LOCATION:Asia/Kolkata
BEGIN:STANDARD
DTSTART:20221202T153000
TZOFFSETFROM:+0530
TZOFFSETTO:+0530
TZNAME:IST
END:STANDARD
END:VTIMEZONE
END:VCALENDAR